BEGIN:VCALENDAR
VERSION:2.0
PRODID:-//Harold &quot;Bud&quot; Boughton - ECPv6.15.18//NONSGML v1.0//EN
CALSCALE:GREGORIAN
METHOD:PUBLISH
X-WR-CALNAME:Harold &quot;Bud&quot; Boughton
X-ORIGINAL-URL:https://www.budboughton.com
X-WR-CALDESC:Events for Harold &quot;Bud&quot; Boughton
REFRESH-INTERVAL;VALUE=DURATION:PT1H
X-Robots-Tag:noindex
X-PUBLISHED-TTL:PT1H
BEGIN:VTIMEZONE
TZID:UTC
BEGIN:STANDARD
TZOFFSETFROM:+0000
TZOFFSETTO:+0000
TZNAME:UTC
DTSTART:20160101T000000
END:STANDARD
END:VTIMEZONE
BEGIN:VEVENT
DTSTART;TZID=UTC:20180128T150000
DTEND;TZID=UTC:20180128T150000
DTSTAMP:20260421T141434
CREATED:20180126T003156Z
LAST-MODIFIED:20180126T202847Z
UID:1077-1517151600-1517151600@www.budboughton.com
SUMMARY:Indiana High School Athletic Association -  Student Advisory Committee
DESCRIPTION:Bud will speak to the Student Advisory Committee of the Indiana High School Athletic Association (IHSAA) about “Making the most of your opportunities”.
URL:https://www.budboughton.com/events/indiana-high-school-athletic-association-student-advisory-council
END:VEVENT
BEGIN:VEVENT
DTSTART;TZID=UTC:20171202T120000
DTEND;TZID=UTC:20171202T160000
DTSTAMP:20260421T141434
CREATED:20170923T023029Z
LAST-MODIFIED:20170923T023251Z
UID:827-1512216000-1512230400@www.budboughton.com
SUMMARY:Bud Boughton’s Latest Book Selected for Annual Author Fair
DESCRIPTION:Bud Boughton’s latest book\, Coaching is Teaching at its Best! has been chosen to be featured at the 15th Annual Holiday Author Fair in Indianapolis. The Author Fair will be held on Saturday\, December 2nd from Noon until 4 PM in the Eugene and Marilyn Glick Indiana History Center. \nBoughton\, who has authored three books and numerous articles says he is excited to see his latest book getting this kind of attention. “I am so excited and passionate about this book because I truly believe it can have a significant impact on the overall quality of the youth sports experience in America. We need to help youth coaches in all sports be the best teaching coaches they can be and that is exactly what this book is about\,” said Boughton. \nOf special note\, December 2nd will be a FREE admission day to the Indiana Experience and to the Author Fair at the Indiana History Center. Coaching is Teaching at its Best! is now available on Amazon.com.
URL:https://www.budboughton.com/events/bud-boughtons-latest-book-selected-annual-author-fair
LOCATION:Eugene and Marilyn Glick Indiana History Center\, 450 West Ohio Street\, Indianapolis\, IN\, 46202
END:VEVENT
BEGIN:VEVENT
DTSTART;VALUE=DATE:20171115
DTEND;VALUE=DATE:20171116
DTSTAMP:20260421T141434
CREATED:20171019T230032Z
LAST-MODIFIED:20171019T230618Z
UID:857-1510704000-1510790399@www.budboughton.com
SUMMARY:Bud Boughton to guest lecture at Ashland University
DESCRIPTION:Bud Boughton will return to his alma mater\, Ashland University in Ashland\, OH on Wednesday November 15th to give several guest lectures. Bud will speak in a general session to students at Noonand will also speak in several business classes. His presentations will touch on leadership\, the impact of technology in today’s business environment and the increasing value of a liberal arts education in today’s world.  Boughton graduated Cum Laude from Ashland and is a member of the Ashland University All-Sports Hall of Fame. The published author\, whose most recent work Coaching is Teaching at its Best! is winning rave reviews\, is still a teacher and coach at heart and provides consulting services to companies on their sales and marketing strategies and culture development. \nwww.Ashland.edu
URL:https://www.budboughton.com/events/bud-boughton-guest-lecture-ashland-university
LOCATION:Ashland University\, 401 College Avenue\, Ashland\, Ohio\, 44805
END:VEVENT
BEGIN:VEVENT
DTSTART;TZID=UTC:20171005T080000
DTEND;TZID=UTC:20171005T093000
DTSTAMP:20260421T141434
CREATED:20170923T021502Z
LAST-MODIFIED:20170923T022042Z
UID:815-1507190400-1507195800@www.budboughton.com
SUMMARY:Bud to speak at the Men IN Action Breakfast on October 5\, 2017
DESCRIPTION:Bud Boughton will be one of the guest speakers at the upcoming Men IN Action breakfast event on October 5th at the Washington Township Park Pavilion in Avon\, IN. \nThe program for the October event will be led by Sheltering Wings\, a domestic violence shelter that has been changing and saving the lives of women and children in Hendricks County and surrounding areas for almost 15 years.  Boughton will be speaking on the role coaches must play in setting an example and teaching their players that there is no room for disrespectful behavior\, verbal abuse and violence in our society\, especially as it pertains to the treatment of women. \nMen IN Action is designed to encourage men to build each other up\, hold one another accountable\, challenge the status quo\, and navigate life by being positive role models for our youth. See the invite below for details on making reservations for the event. \n[Click the picture below to see a larger image]
URL:https://www.budboughton.com/events/bud-speak-men-action-breakfast-october-5-2017
LOCATION:Washtington Township Park Pavilion\, 435 Whipple Lane\, Avon\, IN\, 46123
ORGANIZER;CN="RSVP by phone or email":MAILTO:droberts@shelterwings.org
END:VEVENT
BEGIN:VEVENT
DTSTART;VALUE=DATE:20170808
DTEND;VALUE=DATE:20170809
DTSTAMP:20260421T141434
CREATED:20170415T000120Z
LAST-MODIFIED:20170415T000120Z
UID:737-1502150400-1502236799@www.budboughton.com
SUMMARY:Bud Boughton to speak at the National Association of Women in Construction
DESCRIPTION:Bud Boughton will speak at the NAWIC (National Association of Women in Construction) on August 8\, 2017
URL:https://www.budboughton.com/events/bud-boughton-speak-national-association-women-construction
END:VEVENT
BEGIN:VEVENT
DTSTART;TZID=UTC:20170331T080000
DTEND;TZID=UTC:20170331T170000
DTSTAMP:20260421T141434
CREATED:20170129T045415Z
LAST-MODIFIED:20170129T085019Z
UID:697-1490947200-1490979600@www.budboughton.com
SUMMARY:Indianapolis Optimist Club-March 31\, 2017
DESCRIPTION:On Friday\, March 31\, 2017 Bud will be speaking in downtown Indianapolis\, Indiana at the Indianapolis Optimist Club.
URL:https://www.budboughton.com/events/indianapolis-optimist-club-march-31-2017
ATTACH;FMTTYPE=image/gif:https://www.budboughton.com/wp-content/uploads/2017/01/Optimist-Blue-Logo-Transparent.gif
END:VEVENT
BEGIN:VEVENT
DTSTART;TZID=UTC:20170315T080000
DTEND;TZID=UTC:20170315T170000
DTSTAMP:20260421T141434
CREATED:20170129T044315Z
LAST-MODIFIED:20170129T091401Z
UID:693-1489564800-1489597200@www.budboughton.com
SUMMARY:2017 Techapalooza Technology Conference-March 15\, 2017
DESCRIPTION:Bud will be speaking on Wednesday March 15\, 2017 at the 2017 Techapalooza Technology Conference that will be held at the DoIt Best Corporate Headquarters in Fort Wayne\, IN.
URL:https://www.budboughton.com/events/2017-techapalooza-technology-conference-march-15-2017
LOCATION:Do it best corporate headquarters\, 6502 Nelson Rd\, Fort Wayne\, IN\, 46803
ATTACH;FMTTYPE=image/jpeg:https://www.budboughton.com/wp-content/uploads/2017/01/do-it-best-logo.jpg
END:VEVENT
BEGIN:VEVENT
DTSTART;TZID=UTC:20170310T080000
DTEND;TZID=UTC:20170310T170000
DTSTAMP:20260421T141434
CREATED:20170129T043614Z
LAST-MODIFIED:20170129T091636Z
UID:689-1489132800-1489165200@www.budboughton.com
SUMMARY:Indiana High School Football Clinic-March 10\, 2017
DESCRIPTION:On March 10\, 2017 Bud will be speaking at the Indiana High School Football Clinic at the Sheraton Hotel at Keystone Crossing. \nLearn more at http://www.ifca.net
URL:https://www.budboughton.com/events/indiana-high-school-football-clinic-march-10-2017
LOCATION:Sheraton Hotel at Keystone Crossing\, 8787 Keystone Crossing\, Indianapolis\, IN\, 46240\, United States
ATTACH;FMTTYPE=image/jpeg:https://www.budboughton.com/wp-content/uploads/2017/01/IFCA-logo.jpg
END:VEVENT
BEGIN:VEVENT
DTSTART;TZID=UTC:20170218T080000
DTEND;TZID=UTC:20170218T170000
DTSTAMP:20260421T141434
CREATED:20170129T042749Z
LAST-MODIFIED:20170129T042749Z
UID:686-1487404800-1487437200@www.budboughton.com
SUMMARY:Glazier Football Clinic-February 18\, 2017 in Cincinnati\, Ohio
DESCRIPTION:Bud Boughton to speak at the Glazier Football Clinic\nIt was confirmed today that Bud Boughton\, author of the book Coaching is Teaching at its Best! will be a featured presenter at two of the upcoming Glazier Football Clinics (www.GlazierClinics.com) to be held in the Midwest. \nThe second event is in Cincinnati\, Ohio on February 18h\, 2017. Bud will present an overview of the coaching philosophy behind his new book. He will comment on several of the 10 Tips that are covered in the book. \nWhat is a Glazier Clinic?\nGlazier Clinics is a leader in providing coaching clinics to both high school and college coaches in multiple sports and enjoys partnerships with the American Football Coaches Association (AFCA)\, Fellowship of Christian Athletes (FCA)\, USA Football and Gatorade just to name a few. \nThis year Glazier Football clinics will be held in 32 locations across the United States. \nClick here to find out more about Glazier Clinics
URL:https://www.budboughton.com/events/glazier-football-clinic-february-18-2017-cincinnati-ohio
ATTACH;FMTTYPE=image/png:https://www.budboughton.com/wp-content/uploads/2017/01/glaziereclinic.png
END:VEVENT
BEGIN:VEVENT
DTSTART;TZID=UTC:20170204T080000
DTEND;TZID=UTC:20170204T170000
DTSTAMP:20260421T141434
CREATED:20170129T042137Z
LAST-MODIFIED:20170129T043200Z
UID:680-1486195200-1486227600@www.budboughton.com
SUMMARY:Glazier Football Clinic-February 4\, 2017 in Chicago\, Il
DESCRIPTION:Bud Boughton to speak at the Glazier Football Clinic\nIt was confirmed today that Bud Boughton\, author of the book Coaching is Teaching at its Best! will be a featured presenter at two of the upcoming Glazier Football Clinics (www.GlazierClinics.com) to be held in the Midwest. \nThe first event is in Chicago\, Illinois on February 4th\, 2017. Bud will present an overview of the coaching philosophy behind his new book. He will comment on several of the 10 Tips that are covered in the book. \nWhat is a Glazier Clinic?\nGlazier Clinics is a leader in providing coaching clinics to both high school and college coaches in multiple sports and enjoys partnerships with the American Football Coaches Association (AFCA)\, Fellowship of Christian Athletes (FCA)\, USA Football and Gatorade just to name a few. \nThis year Glazier Football clinics will be held in 32 locations across the United States. \nClick here to find out more about Glazier Clinics
URL:https://www.budboughton.com/events/glazier-football-clinic-february-4-2017-chicago-il
LOCATION:Chicago\, IL
ATTACH;FMTTYPE=image/png:https://www.budboughton.com/wp-content/uploads/2017/01/glaziereclinic.png
END:VEVENT
END:VCALENDAR